BEGIN:VCALENDAR
VERSION:2.0
PRODID:-//chikkutakku.com//RDFCal 1.0//EN
X-WR-CALDESC:GoogleカレンダーやiCalendar形式情報を共有シェ
 アしましょう。近所のイベントから全国のイベントま
 で今日のイベント検索やスケジュールを決めるならち
 っくたっく
X-WR-CALNAME:ちっくたっく
X-WR-TIMEZONE:UTC
BEGIN:VEVENT
SUMMARY:奇跡のプロジェクト 図書館が街を変えた！
DTSTART;VALUE=DATE:20260512
DTEND;VALUE=DATE:20260513
UID:174080030768
DESCRIPTION:2026-05-13奇跡のプロジェクト 図書館が街を変え
 た！高井 昌史東洋経済新報社
LOCATION:
END:VEVENT
END:VCALENDAR
