BEGIN:VCALENDAR
VERSION:2.0
PRODID:-//chikkutakku.com//RDFCal 1.0//EN
X-WR-CALDESC:GoogleカレンダーやiCalendar形式情報を共有シェ
 アしましょう。近所のイベントから全国のイベントま
 で今日のイベント検索やスケジュールを決めるならち
 っくたっく
X-WR-CALNAME:ちっくたっく
X-WR-TIMEZONE:UTC
BEGIN:VEVENT
SUMMARY:Hockey Boys: U16 Michael House Festival
DTSTART;VALUE=DATE:20260422
DTEND;VALUE=DATE:20260427
UID:174672290543
DESCRIPTION:Please note that the U16A Hockey Boys will be traveling to Mic
 haelhouse and will be away from the morning of the 23rd until the evening 
 of the 27th. \n\nTeam list:\n\nRomano Gatinho\n\nAidan Rimmer\n\nRuben Zek
 veld\n\nTom Heurlin\n\nJosh Horn\n\nRobbie Evert\n\nMark Pyle\n\nOliver Ha
 arhoff\n\nJoe Chaplin\n\nJoe Moore\n\nSamarth Sreedhar\n\nEben van Wyk\n\n
 Sam Downes\n\nChris Roux\n\nAdam Sulaiman\n\nJames Moss
LOCATION:Michaelhouse\, R103\, Balgowan\, 3275\, South Africa
END:VEVENT
END:VCALENDAR
