BEGIN:VCALENDAR
VERSION:2.0
PRODID:-//chikkutakku.com//RDFCal 1.0//EN
X-WR-CALDESC:GoogleカレンダーやiCalendar形式情報を共有シェ
 アしましょう。近所のイベントから全国のイベントま
 で今日のイベント検索やスケジュールを決めるならち
 っくたっく
X-WR-CALNAME:ちっくたっく
X-WR-TIMEZONE:UTC
BEGIN:VEVENT
SUMMARY:(นพ.สสจ)กล่าวรายงานพิธีเ
 ปิดการอบรมพัฒนารูปแบบขับ
 เคลื่อนการดำเนินงานบำบัด
 และฟื้นฟูสมรรถภาพผู้ติดย
 าเสพติดระยะยาวแบบบูรณากา
 ร ณ.รร.ศรีลำดวน : รองทวีศักด
 ิ์ รอง ผวจ.เป็นประธาน
DTSTART;VALUE=DATE-TIME:20260422T020000Z
DTEND;VALUE=DATE-TIME:20260422T022000Z
UID:175017155781
DESCRIPTION:(นพ.สสจ)กล่าวรายงานพิธ
 ีเปิดการอบรมพัฒนารูปแบบข
 ับเคลื่อนการดำเนินงานบำบ
 ัดและฟื้นฟูสมรรถภาพผู้ติ
 ดยาเสพติดระยะยาวแบบบูรณา
 การ ณ.รร.ศรีลำดวน : รองทวีศั
 กดิ์ รอง ผวจ.เป็นประธาน
LOCATION:
END:VEVENT
END:VCALENDAR
