BEGIN:VCALENDAR
VERSION:2.0
PRODID:-//chikkutakku.com//RDFCal 1.0//EN
X-WR-CALDESC:GoogleカレンダーやiCalendar形式情報を共有シェ
 アしましょう。近所のイベントから全国のイベントま
 で今日のイベント検索やスケジュールを決めるならち
 っくたっく
X-WR-CALNAME:ちっくたっく
X-WR-TIMEZONE:UTC
BEGIN:VEVENT
SUMMARY:【Android 対応】DJイベントSUB-QUARTET-さぶかるてっ
 と
DTSTART;VALUE=DATE-TIME:20260424T130000Z
DTEND;VALUE=DATE-TIME:20260424T150000Z
UID:175042390557
DESCRIPTION:【イベント主催者】\n　メンタルおばけ　かん
 らふ\n【イベント内容】\n　隔月最終金曜日開催のアニ
 ソンボカロVTuber楽曲の原曲やremixまで何でもありのサブ
 カルメインなオールジャンルイベントです\n【イベント
 ジャンル】\n　音楽系イベント\, 初心者向けイベント\, 
 定期イベント\n【参加条件（モデル、人数制限など）】
 \n　巨大アバター、視界ジャック、音の出るアバター、
 ボイスから音楽を出す行為は禁止です。\n【参加方法】
 \n　出演者かLIVE HOUSE IX-XI(IXXI.2457)にJoin\n【備考】\n　http
 s://x.com/buiaruobake/status/2040625877969748349?s=20
LOCATION:
END:VEVENT
END:VCALENDAR
