BEGIN:VCALENDAR
VERSION:2.0
PRODID:-//chikkutakku.com//RDFCal 1.0//EN
X-WR-CALDESC:GoogleカレンダーやiCalendar形式情報を共有シェ
 アしましょう。近所のイベントから全国のイベントま
 で今日のイベント検索やスケジュールを決めるならち
 っくたっく
X-WR-CALNAME:ちっくたっく
X-WR-TIMEZONE:UTC
BEGIN:VEVENT
SUMMARY:鎮魂 平和 詩の美 高畑耕治アンソロジー
DTSTART;VALUE=DATE:20260519
DTEND;VALUE=DATE:20260520
UID:175238174831
DESCRIPTION:2026-05-20鎮魂 平和 詩の美 高畑耕治アンソロジ
 ー高畑 耕治愛のうたの絵ほん
LOCATION:
END:VEVENT
END:VCALENDAR
