BEGIN:VCALENDAR
VERSION:2.0
PRODID:-//chikkutakku.com//RDFCal 1.0//EN
X-WR-CALDESC:GoogleカレンダーやiCalendar形式情報を共有シェ
 アしましょう。近所のイベントから全国のイベントま
 で今日のイベント検索やスケジュールを決めるならち
 っくたっく
X-WR-CALNAME:ちっくたっく
X-WR-TIMEZONE:UTC
BEGIN:VEVENT
SUMMARY:Committee Meeting
DTSTART;VALUE=DATE:20260512
DTEND;VALUE=DATE:20260513
UID:175413530989
DESCRIPTION:Committee MeetingDate: Wednesday 13 May 2026  (revised date)V
 enue: Oaktree (club room) or tbaTime: 4:00-6:00pmWhat to bring: Assist wit
 h planning of activities / ideas to assist in 2026 program and beyond.Tea 
 &amp\; coffee supplied.President:  Bill Kempton to chair meeting.Please 
 RSVP by Thursday prior to committee meetingContact person to RSVP: Ian You
 ngClub Email: mudgee.bushwalking@outlook.com
LOCATION:
END:VEVENT
END:VCALENDAR
