BEGIN:VCALENDAR
VERSION:2.0
PRODID:-//chikkutakku.com//RDFCal 1.0//EN
X-WR-CALDESC:GoogleカレンダーやiCalendar形式情報を共有シェ
 アしましょう。近所のイベントから全国のイベントま
 で今日のイベント検索やスケジュールを決めるならち
 っくたっく
X-WR-CALNAME:ちっくたっく
X-WR-TIMEZONE:UTC
BEGIN:VEVENT
SUMMARY:【アバター集会】リオンちゃん集会
DTSTART;VALUE=DATE-TIME:20260425T130000Z
DTEND;VALUE=DATE-TIME:20260425T140000Z
UID:175696573949
DESCRIPTION:【イベント主催者】\n　はむとろ\n【イベント
 内容】\n　アバター集会\n【イベントジャンル】\n　ア
 バター試着会\, 改変アバター交流会\, その他交流会\, 
 定期イベント\n【参加条件（モデル、人数制限など）】
 \n　3Dアバター「Rion」の使用者（サンプルアバター可、
 ワールドにSA設置しております）\n【参加方法】\n　時
 間になりましたらリオンちゃん集会のGroup＋インスタン
 スにJoinしてください。\n【備考】\n　VRChat group：「リオ
 ンちゃん集会」\nグループID：241123.6501\nhttps://vrc.group/241
 123.6501\nＸ（旧Twitter）：https://x.com/hamutoro_vrc
LOCATION:
END:VEVENT
END:VCALENDAR
