BEGIN:VCALENDAR
VERSION:2.0
PRODID:-//chikkutakku.com//RDFCal 1.0//EN
X-WR-CALDESC:GoogleカレンダーやiCalendar形式情報を共有シェ
 アしましょう。近所のイベントから全国のイベントま
 で今日のイベント検索やスケジュールを決めるならち
 っくたっく
X-WR-CALNAME:ちっくたっく
X-WR-TIMEZONE:UTC
BEGIN:VEVENT
SUMMARY:蟲姫2 蛭子 2
DTSTART;VALUE=DATE:20260518
DTEND;VALUE=DATE:20260519
UID:175778513944
DESCRIPTION:2026-05-19蟲姫2 蛭子 2里見 有/外薗 昌也ホーム社
LOCATION:
END:VEVENT
END:VCALENDAR
