BEGIN:VCALENDAR
VERSION:2.0
PRODID:-//chikkutakku.com//RDFCal 1.0//EN
X-WR-CALDESC:GoogleカレンダーやiCalendar形式情報を共有シェ
 アしましょう。近所のイベントから全国のイベントま
 で今日のイベント検索やスケジュールを決めるならち
 っくたっく
X-WR-CALNAME:ちっくたっく
X-WR-TIMEZONE:UTC
BEGIN:VEVENT
SUMMARY:【参加型】即興劇練習会 観覧可
DTSTART;VALUE=DATE-TIME:20260423T120000Z
DTEND;VALUE=DATE-TIME:20260423T140000Z
UID:175973848563
DESCRIPTION:【イベント主催者】\n　クローバー　ニッパー
 \n【イベント内容】\n　VRChatで行う参加型即興劇イベン
 ト\n初心者・観覧・途中入退出参加可\n\n今回のレギュ
 レーション\n\n1․ペア・ソロが決まったらお題を3つも
 らえる\n2․打ち合わせを行う内容を決める\n3․準備が
 終わった組みから劇を5分間行う\n4․終了した組から組
 む（同じ人でもOK）\n\nタイムスケジュール\n20：50会場\n
 21：00スタート 5分間即興劇（打ち合わせあり）\n【イベ
 ントジャンル】\n　ロールプレイ\n【参加条件（モデル
 、人数制限など）】\n　基本的にはアバターの制限はあ
 りません。\n劇の演出に必要なパーティカルやアバター
 変更は許可します。\n\n運営の判断で注意する可能性は
 あります\n【参加方法】\n　グループ＋\n参加はグルー
 プjoinもしくは主催『CrowBar12』『Nipper2288』にフレンドjoi
 n\n\nグループ↓ \nhttps://vrc.group/ETUDE.6282 \n\n『CrowBar12』htt
 ps://vrchat.com/home/user/usr_d9822fb2-9ac9-44e2-9072-dc441edfa390\n\n『N
 ipper2288』https://vrchat.com/home/user/usr_5cb60f64-de5d-48a6-82be-97568
 33d0161\n【備考】\n　演劇やRP初心者でも参加大歓迎です
 ！\n自分のしたい表現をして楽しみましょう！
LOCATION:
END:VEVENT
END:VCALENDAR
