BEGIN:VCALENDAR
VERSION:2.0
PRODID:-//chikkutakku.com//RDFCal 1.0//EN
X-WR-CALDESC:GoogleカレンダーやiCalendar形式情報を共有シェ
 アしましょう。近所のイベントから全国のイベントま
 で今日のイベント検索やスケジュールを決めるならち
 っくたっく
X-WR-CALNAME:ちっくたっく
X-WR-TIMEZONE:UTC
BEGIN:VEVENT
SUMMARY:松尾祭おいで（京都・松尾大社）※20日以降の日
 曜
DTSTART;VALUE=DATE-TIME:20260422T150000Z
DTEND;VALUE=DATE-TIME:20260423T150000Z
UID:176017989056
DESCRIPTION:松尾祭おいで（京都・松尾大社）※20日以降の
 日曜
LOCATION:
END:VEVENT
END:VCALENDAR
