BEGIN:VCALENDAR
VERSION:2.0
PRODID:-//chikkutakku.com//RDFCal 1.0//EN
X-WR-CALDESC:GoogleカレンダーやiCalendar形式情報を共有シェ
 アしましょう。近所のイベントから全国のイベントま
 で今日のイベント検索やスケジュールを決めるならち
 っくたっく
X-WR-CALNAME:ちっくたっく
X-WR-TIMEZONE:UTC
BEGIN:VEVENT
SUMMARY:あの日、僕と君が見た空は
DTSTART;VALUE=DATE:20260427
DTEND;VALUE=DATE:20260428
UID:176782482389
DESCRIPTION:2026-04-28あの日、僕と君が見た空は望月麻衣ス
 ターツ出版
LOCATION:
END:VEVENT
END:VCALENDAR
