BEGIN:VCALENDAR
VERSION:2.0
PRODID:-//chikkutakku.com//RDFCal 1.0//EN
X-WR-CALDESC:GoogleカレンダーやiCalendar形式情報を共有シェ
 アしましょう。近所のイベントから全国のイベントま
 で今日のイベント検索やスケジュールを決めるならち
 っくたっく
X-WR-CALNAME:ちっくたっく
X-WR-TIMEZONE:UTC
BEGIN:VEVENT
SUMMARY:【世界ペンギンデー2026】SnowCrystal REVERSE
DTSTART;VALUE=DATE-TIME:20260425T130000Z
DTEND;VALUE=DATE-TIME:20260425T140000Z
UID:176932604209
DESCRIPTION:【イベント主催者】\n　Pastel0122\n【イベント内
 容】\n　4/25は世界ペンギンデーです！それにちなんでSn
 owCrystalでは、ペンギンさんをお客様方に労わってもら
 うべくお客様方に接客して頂きます！！！！！\nかわい
 いペンギンさんに感謝する日にしましょう！！！！\n【
 イベントジャンル】\n　店舗系イベント\, 初心者向けイ
 ベント\, 定期イベント\n【参加条件（モデル、人数制限
 など）】\n　【推奨事項】\nダウンロードサイズが50MB以
 内\n【お願い事項】\n背丈があまりにも大きいアバター
 の使用、モラルに反する行為はご遠慮ください。\n【参
 加方法】\n　SnowCrystalのGroupにご参加の上、22:00～開かれ
 るグループインスタンスにお入りください。\n【GroupID:S
 NOWCR.0433】\n【備考】\n　
LOCATION:
END:VEVENT
END:VCALENDAR
