BEGIN:VCALENDAR
VERSION:2.0
PRODID:-//chikkutakku.com//RDFCal 1.0//EN
X-WR-CALDESC:GoogleカレンダーやiCalendar形式情報を共有シェ
 アしましょう。近所のイベントから全国のイベントま
 で今日のイベント検索やスケジュールを決めるならち
 っくたっく
X-WR-CALNAME:ちっくたっく
X-WR-TIMEZONE:UTC
BEGIN:VEVENT
SUMMARY:Slow pitch districts @ Arapaho
DTSTART;VALUE=DATE-TIME:20260423T200000Z
DTEND;VALUE=DATE-TIME:20260423T210000Z
UID:177027464679
DESCRIPTION:Slow pitch districts @ Arapaho
LOCATION:
END:VEVENT
END:VCALENDAR
