BEGIN:VCALENDAR
VERSION:2.0
PRODID:-//chikkutakku.com//RDFCal 1.0//EN
X-WR-CALDESC:GoogleカレンダーやiCalendar形式情報を共有シェ
 アしましょう。近所のイベントから全国のイベントま
 で今日のイベント検索やスケジュールを決めるならち
 っくたっく
X-WR-CALNAME:ちっくたっく
X-WR-TIMEZONE:UTC
BEGIN:VEVENT
SUMMARY:加藤先生、jiji先生、司法試験に最短合格する方
 法を教えてください！
DTSTART;VALUE=DATE:20260501
DTEND;VALUE=DATE:20260502
UID:177525164454
DESCRIPTION:2026-05-02加藤先生、jiji先生、司法試験に最短合
 格する方法を教えてください！加藤 喬/平木 太生中央
 経済社
LOCATION:
END:VEVENT
END:VCALENDAR
