BEGIN:VCALENDAR
VERSION:2.0
PRODID:-//chikkutakku.com//RDFCal 1.0//EN
X-WR-CALDESC:GoogleカレンダーやiCalendar形式情報を共有シェ
 アしましょう。近所のイベントから全国のイベントま
 で今日のイベント検索やスケジュールを決めるならち
 っくたっく
X-WR-CALNAME:ちっくたっく
X-WR-TIMEZONE:UTC
BEGIN:VEVENT
SUMMARY:【Android 対応】ぱたにゃこしゅうかい
DTSTART;VALUE=DATE-TIME:20260422T130000Z
DTEND;VALUE=DATE-TIME:20260422T140000Z
UID:177899381343
DESCRIPTION:【イベント主催者】\n　あみるぱ\n【イベント
 内容】\n　はむけつ先生（X＠hamuketsu_vrc）のアバター、
 「ぱたにゃこ」のアバター集会です。\nぱたにゃこ以外
 のアバターの参加も歓迎です！\n【イベントジャンル】
 \n　改変アバター交流会\n【参加条件（モデル、人数制
 限など）】\n　ぱたにゃこを持ってなくてもOKです！\nSi
 stersǃの規約を守ってください。\n50MB以下のアバター容
 量でお願いします。\n以下を確認次第、主催者の判断で
 キックさせて頂くことがありますのでご了承ください
 。\n・迷惑行為（視界ジャックや不快な騒音等）\n・セ
 ンシティブな改変、および行為\n【参加方法】\n　グル
 ープインスタンスにJoin\n【備考】\n　
LOCATION:
END:VEVENT
END:VCALENDAR
