BEGIN:VCALENDAR
VERSION:2.0
PRODID:-//chikkutakku.com//RDFCal 1.0//EN
X-WR-CALDESC:GoogleカレンダーやiCalendar形式情報を共有シェ
 アしましょう。近所のイベントから全国のイベントま
 で今日のイベント検索やスケジュールを決めるならち
 っくたっく
X-WR-CALNAME:ちっくたっく
X-WR-TIMEZONE:UTC
BEGIN:VEVENT
SUMMARY:雨後くもり 24℃/15℃
DTSTART;VALUE=DATE:20260422
DTEND;VALUE=DATE:20260423
UID:178045651904
DESCRIPTION:天気は雨後くもり、降水確率は90%、最高気温
 は24℃、最低気温は15℃でしょう。
LOCATION:
END:VEVENT
END:VCALENDAR
