BEGIN:VCALENDAR
VERSION:2.0
PRODID:-//chikkutakku.com//RDFCal 1.0//EN
X-WR-CALDESC:GoogleカレンダーやiCalendar形式情報を共有シェ
 アしましょう。近所のイベントから全国のイベントま
 で今日のイベント検索やスケジュールを決めるならち
 っくたっく
X-WR-CALNAME:ちっくたっく
X-WR-TIMEZONE:UTC
BEGIN:VEVENT
SUMMARY:グリーンエコノミー 世界の環境を取り巻く本当
 の仕組み
DTSTART;VALUE=DATE:20260421
DTEND;VALUE=DATE:20260422
UID:179356988021
DESCRIPTION:2026-04-22グリーンエコノミー 世界の環境を取り
 巻く本当の仕組みダーシーニ・デイヴィッド/花塚 恵か
 んき出版
LOCATION:
END:VEVENT
END:VCALENDAR
