BEGIN:VCALENDAR
VERSION:2.0
PRODID:-//chikkutakku.com//RDFCal 1.0//EN
X-WR-CALDESC:GoogleカレンダーやiCalendar形式情報を共有シェ
 アしましょう。近所のイベントから全国のイベントま
 で今日のイベント検索やスケジュールを決めるならち
 っくたっく
X-WR-CALNAME:ちっくたっく
X-WR-TIMEZONE:UTC
BEGIN:VEVENT
SUMMARY:【大型エアショー】Wings Over Blue Horizons【Garmanにjoi
 n】【４か月に１回】
DTSTART;VALUE=DATE-TIME:20260426T124500Z
DTEND;VALUE=DATE-TIME:20260426T140000Z
UID:179422823915
DESCRIPTION:【イベント主催者】\n　Garman\n【イベント内容
 】\n　大型エアショー、曲芸飛行\n【イベントジャンル
 】\n　定期イベント\n【参加条件（モデル、人数制限な
 ど）】\n　なし\n【参加方法】\n　Garmanにjoin\n【備考】\n
 　https://x.com/BlueHorizonsVRC/status/2041803244934975675?s=20
LOCATION:
END:VEVENT
END:VCALENDAR
