BEGIN:VCALENDAR
VERSION:2.0
PRODID:-//chikkutakku.com//RDFCal 1.0//EN
X-WR-CALDESC:GoogleカレンダーやiCalendar形式情報を共有シェ
 アしましょう。近所のイベントから全国のイベントま
 で今日のイベント検索やスケジュールを決めるならち
 っくたっく
X-WR-CALNAME:ちっくたっく
X-WR-TIMEZONE:UTC
BEGIN:VEVENT
SUMMARY:『僕のヒーローアカデミア』FINAL SEASON DVD Vol.2 初
 回生産限定版
DTSTART;VALUE=DATE:20260519
DTEND;VALUE=DATE:20260520
UID:179654157084
DESCRIPTION:2026-05-20『僕のヒーローアカデミア』FINAL SEASON 
 DVD Vol.2 初回生産限定版堀越耕平/山下大輝/三宅健太/内
 山昂輝/大塚明夫/馬越嘉彦/小田嶋瞳/林ゆうき東宝(株)
LOCATION:
END:VEVENT
END:VCALENDAR
