BEGIN:VCALENDAR
VERSION:2.0
PRODID:-//chikkutakku.com//RDFCal 1.0//EN
X-WR-CALDESC:GoogleカレンダーやiCalendar形式情報を共有シェ
 アしましょう。近所のイベントから全国のイベントま
 で今日のイベント検索やスケジュールを決めるならち
 っくたっく
X-WR-CALNAME:ちっくたっく
X-WR-TIMEZONE:UTC
BEGIN:VEVENT
SUMMARY:フットボール・マネー
DTSTART;VALUE=DATE:20260421
DTEND;VALUE=DATE:20260422
UID:179688512184
DESCRIPTION:2026-04-22フットボール・マネーミゲル・デラニ
 ー/山中 拓磨平凡社
LOCATION:
END:VEVENT
END:VCALENDAR
