BEGIN:VCALENDAR
VERSION:2.0
PRODID:-//chikkutakku.com//RDFCal 1.0//EN
X-WR-CALDESC:GoogleカレンダーやiCalendar形式情報を共有シェ
 アしましょう。近所のイベントから全国のイベントま
 で今日のイベント検索やスケジュールを決めるならち
 っくたっく
X-WR-CALNAME:ちっくたっく
X-WR-TIMEZONE:UTC
BEGIN:VEVENT
SUMMARY:表千家茶道教室
DTSTART;VALUE=DATE:20260504
DTEND;VALUE=DATE:20260505
UID:179709924692
DESCRIPTION:にじり口と腰掛待合のある本格的な茶室で、
 一講座につき少人数限定の茶道教室を開講します。講
 師には、奈良町で「堂後茶道教室」を開いておられる
 、表千家教授の堂後宗邑様をお迎えして、お点前はじ
 め客としての礼儀作法、茶の湯の知識全般にわたって
 、その人の希望および習熟度によって、細部にわたっ
 てかつ臨機応変に対応していただけるようにいたしま
 す。\n\n一回につき少人数限定といたしましたのは、茶
 の湯の稽古においてはお点前はもちろんのこと客とし
 の礼儀作法や予習・復習を兼ねた見る稽古を含めて最
 も効果的な人数を考えてのことです。また千家の流儀
 にかなった置水屋も備えておりますので、水屋の稽古
 も可能です。炉は炭・電熱両用です。ご希望によって
 炭点前のお稽古も可能です。\n交通至便はJR奈良駅から
 徒歩2分の閑静な住宅街にありながら、本格的な茶室で
 、内容充実のお茶のお稽古を始めてみませんか？\n【受
 講料】お一人様一回6000円（濃茶1服・薄茶2服・それに
 ともなったお菓子付き）水屋料込み。　\n＊炭点前の受
 講をご希望の方は、茶の湯炭手配料としてプラス1\,000
 円頂戴いたします。お稽古希望日の一週間前までにご
 連絡下さい。\n※また、ご予約済みのお稽古日を変更･
 キャンセル（お休み）される場合は、当月最初の曜日
 のお稽古一週間前までにご連絡下さい。やむを得ず当
 日キャンセル（お休み）の場合は、お菓子手配料とし
 て1000円頂戴いたします（翌月のお稽古日にご持参くだ
 さい）。\n【時間】約2時間（途中退席も可能です）\n第
 1日曜 : 10:00〜 / 13:00〜 / 15：00〜 \n第1火曜 / 第1金曜 : 15:
 00〜 / 19:00〜 
LOCATION:三五夜 SANGOYA\, 日本、〒630-8244 奈良県奈良市三条
 町５２９−２
END:VEVENT
END:VCALENDAR
