BEGIN:VCALENDAR
VERSION:2.0
PRODID:-//chikkutakku.com//RDFCal 1.0//EN
X-WR-CALDESC:GoogleカレンダーやiCalendar形式情報を共有シェ
 アしましょう。近所のイベントから全国のイベントま
 で今日のイベント検索やスケジュールを決めるならち
 っくたっく
X-WR-CALNAME:ちっくたっく
X-WR-TIMEZONE:UTC
BEGIN:VEVENT
SUMMARY:Program Staff Meeting
DTSTART;VALUE=DATE-TIME:20260512T170000Z
DTEND;VALUE=DATE-TIME:20260512T180000Z
UID:180554482657
DESCRIPTION:Program Staff Meeting
LOCATION:Room 203 - Library
END:VEVENT
END:VCALENDAR
