BEGIN:VCALENDAR
VERSION:2.0
PRODID:-//chikkutakku.com//RDFCal 1.0//EN
X-WR-CALDESC:GoogleカレンダーやiCalendar形式情報を共有シェ
 アしましょう。近所のイベントから全国のイベントま
 で今日のイベント検索やスケジュールを決めるならち
 っくたっく
X-WR-CALNAME:ちっくたっく
X-WR-TIMEZONE:UTC
BEGIN:VEVENT
SUMMARY:性悪な姉が幸せになるはずの未来予知が外れ、私
 が皇帝に愛されています
DTSTART;VALUE=DATE:20260427
DTEND;VALUE=DATE:20260428
UID:180853193466
DESCRIPTION:2026-04-28性悪な姉が幸せになるはずの未来予知
 が外れ、私が皇帝に愛されています藍せいあスターツ
 出版
LOCATION:
END:VEVENT
END:VCALENDAR
