BEGIN:VCALENDAR
VERSION:2.0
PRODID:-//chikkutakku.com//RDFCal 1.0//EN
X-WR-CALDESC:GoogleカレンダーやiCalendar形式情報を共有シェ
 アしましょう。近所のイベントから全国のイベントま
 で今日のイベント検索やスケジュールを決めるならち
 っくたっく
X-WR-CALNAME:ちっくたっく
X-WR-TIMEZONE:UTC
BEGIN:VEVENT
SUMMARY:U15-2nd、TRM
DTSTART;VALUE=DATE-TIME:20260424T213000Z
DTEND;VALUE=DATE-TIME:20260425T000000Z
UID:181019364775
DESCRIPTION:7時 vs パスドゥーロ（25分×4）@S14\n\n※参加費80
 0円\n\n※メンバーは決まり次第掲載します。\n\n※担当\n
 北山コーチ
LOCATION:J-GREEN堺\, 日本、〒590-0901 大阪府堺市堺区築港八
 幡町１４５
END:VEVENT
END:VCALENDAR
