BEGIN:VCALENDAR
VERSION:2.0
PRODID:-//chikkutakku.com//RDFCal 1.0//EN
X-WR-CALDESC:GoogleカレンダーやiCalendar形式情報を共有シェ
 アしましょう。近所のイベントから全国のイベントま
 で今日のイベント検索やスケジュールを決めるならち
 っくたっく
X-WR-CALNAME:ちっくたっく
X-WR-TIMEZONE:UTC
BEGIN:VEVENT
SUMMARY:怪し火定例会「いろりばたの会」
DTSTART;VALUE=DATE-TIME:20260422T120000Z
DTEND;VALUE=DATE-TIME:20260422T140000Z
UID:181096899392
DESCRIPTION:【イベント主催者】\n　相塚松（あいつかまつ
 ）\n【イベント内容】\n　妖怪好き交流所「怪し火-AYASHI
 BI-」の派生イベント。\n"怪談＆民俗学"を主題とした雑
 談や怪談、朗読などを楽しむイベントです。\n怪し火の
 ときとは一味違う雰囲気の中でゆったりくつろぎまし
 ょう。\n【イベントジャンル】\n　その他交流会\, 学術
 系イベント\n【参加条件（モデル、人数制限など）】\n
 　妖怪、怪異、民俗学、怪談等に興味がある人\n【参加
 方法】\n　妖怪好き交流所『怪し火-AYASHIBI-』のグルー
 プ＋インスタンスにて開催\n【備考】\n　21:00～　雑談\n
 22:00～　朗読・怪談語り\nhttps://x.com/vrc_ayashibi\nhttps://vrc.
 group/AYASHI.7298
LOCATION:
END:VEVENT
END:VCALENDAR
