BEGIN:VCALENDAR
VERSION:2.0
PRODID:-//chikkutakku.com//RDFCal 1.0//EN
X-WR-CALDESC:GoogleカレンダーやiCalendar形式情報を共有シェ
 アしましょう。近所のイベントから全国のイベントま
 で今日のイベント検索やスケジュールを決めるならち
 っくたっく
X-WR-CALNAME:ちっくたっく
X-WR-TIMEZONE:UTC
BEGIN:VEVENT
SUMMARY:Throwback Tuesday - Senior Celebration\, StuGo and Seniors\, Start
 s at 10AM
DTSTART;VALUE=DATE-TIME:20260512T143000Z
DTEND;VALUE=DATE-TIME:20260512T203000Z
UID:181201339501
DESCRIPTION:Trevillyan    4806881222\n\n6 Trash cans\, 10 tables\, 20 ch
 airs
LOCATION:PHS-1-PHS Baseball Field\, 301 S McLane Rd\, Payson\, AZ 85541 (1
 )
END:VEVENT
END:VCALENDAR
