BEGIN:VCALENDAR
VERSION:2.0
PRODID:-//chikkutakku.com//RDFCal 1.0//EN
X-WR-CALDESC:GoogleカレンダーやiCalendar形式情報を共有シェ
 アしましょう。近所のイベントから全国のイベントま
 で今日のイベント検索やスケジュールを決めるならち
 っくたっく
X-WR-CALNAME:ちっくたっく
X-WR-TIMEZONE:UTC
BEGIN:VEVENT
SUMMARY:🎪 ルミネtheよしもと ＧＷ特別興行
DTSTART;VALUE=DATE-TIME:20260425T020000Z
DTEND;VALUE=DATE-TIME:20260425T030000Z
UID:181309300990
DESCRIPTION:🎪 ルミネtheよしもと ＧＷ特別興行
LOCATION:ルミネtheよしもと\, 日本、〒160-0022 東京都新宿
 区新宿３丁目３８−２ ルミネ2 7F
END:VEVENT
END:VCALENDAR
