BEGIN:VCALENDAR
VERSION:2.0
PRODID:-//chikkutakku.com//RDFCal 1.0//EN
X-WR-CALDESC:GoogleカレンダーやiCalendar形式情報を共有シェ
 アしましょう。近所のイベントから全国のイベントま
 で今日のイベント検索やスケジュールを決めるならち
 っくたっく
X-WR-CALNAME:ちっくたっく
X-WR-TIMEZONE:UTC
BEGIN:VEVENT
SUMMARY:隣の家に住んでそうなお姉さん集会
DTSTART;VALUE=DATE-TIME:20260425T123000Z
DTEND;VALUE=DATE-TIME:20260425T133000Z
UID:182164667983
DESCRIPTION:【イベント主催者】\n　がそさん／いついそ 
 もと\n【イベント内容】\n　隣の家に住んでそうなお姉
 さんのようなアバターをお持ちの方、隣の家にお姉さ
 んが住んでてほしい方のための交流会です。（ロール
 プレイ等はございませんが公序良俗に反しない範囲で
 のロールプレイはOKです）\n【イベントジャンル】\n　
 改変アバター交流会\, その他交流会\n【参加条件（モデ
 ル、人数制限など）】\n　テクスチャメモリーは可能な
 限りPoor上限値（150MB）以内に抑えてください※必須で
 はありません\n【参加方法】\n　がそさん回覧板（GSSN.04
 31）Groupに参加し、Group+インスタンスにjoin\n【備考】\n
 　公序良俗、およびVRChatのコミュニティガイドライン
 を遵守してください。
LOCATION:
END:VEVENT
END:VCALENDAR
