BEGIN:VCALENDAR
VERSION:2.0
PRODID:-//chikkutakku.com//RDFCal 1.0//EN
X-WR-CALDESC:GoogleカレンダーやiCalendar形式情報を共有シェ
 アしましょう。近所のイベントから全国のイベントま
 で今日のイベント検索やスケジュールを決めるならち
 っくたっく
X-WR-CALNAME:ちっくたっく
X-WR-TIMEZONE:UTC
BEGIN:VEVENT
SUMMARY:【特典】FZ: Formation Z 数量限定版 Switch2版(【初回
 外付特典】小冊子「フォーメーションZ 公式ファンブッ
 ク」)
DTSTART;VALUE=DATE:20260520
DTEND;VALUE=DATE:20260521
UID:182380657548
DESCRIPTION:2026-05-21【特典】FZ: Formation Z 数量限定版 Switch2
 版(【初回外付特典】小冊子「フォーメーションZ 公式
 ファンブック」)シティコネクション
LOCATION:
END:VEVENT
END:VCALENDAR
