BEGIN:VCALENDAR
VERSION:2.0
PRODID:-//chikkutakku.com//RDFCal 1.0//EN
X-WR-CALDESC:GoogleカレンダーやiCalendar形式情報を共有シェ
 アしましょう。近所のイベントから全国のイベントま
 で今日のイベント検索やスケジュールを決めるならち
 っくたっく
X-WR-CALNAME:ちっくたっく
X-WR-TIMEZONE:UTC
BEGIN:VEVENT
SUMMARY:駆逐艦松：竣工日(1944)
DTSTART;VALUE=DATE-TIME:20260427T150000Z
DTEND;VALUE=DATE-TIME:20260428T150000Z
UID:182570203485
DESCRIPTION:　丁型一等駆逐艦第5481号艦として舞鶴工廠で
 建造[3]。1943年（昭和18年）8月8日、起工[3][4]。同年12月2
 2日、命名[1]。同日附で駆逐艦一等の部中に松型が新設
 され、その1番艦に定められる[2]。 1944年（昭和19年）2
 月3日に進水し[8]、本籍を舞鶴鎮守府に定められる[9]。\
 n　4月28日、竣工[11][16]。訓練部隊の第十一水雷戦隊（
 司令官高間完少将・海軍兵学校41期[17]）に編入され、5
 月1日に舞鶴を出港して呉に回航された。
LOCATION:
END:VEVENT
END:VCALENDAR
