BEGIN:VCALENDAR
VERSION:2.0
PRODID:-//chikkutakku.com//RDFCal 1.0//EN
X-WR-CALDESC:GoogleカレンダーやiCalendar形式情報を共有シェ
 アしましょう。近所のイベントから全国のイベントま
 で今日のイベント検索やスケジュールを決めるならち
 っくたっく
X-WR-CALNAME:ちっくたっく
X-WR-TIMEZONE:UTC
BEGIN:VEVENT
SUMMARY:うしおととら(TV2) #36 「約束の夜へ」
DTSTART;VALUE=DATE-TIME:20260421T160500Z
DTEND;VALUE=DATE-TIME:20260421T163500Z
UID:182985501705
DESCRIPTION:36 / 約束の夜へ / 
LOCATION:TOKYO MX
END:VEVENT
END:VCALENDAR
