BEGIN:VCALENDAR
VERSION:2.0
PRODID:-//chikkutakku.com//RDFCal 1.0//EN
X-WR-CALDESC:GoogleカレンダーやiCalendar形式情報を共有シェ
 アしましょう。近所のイベントから全国のイベントま
 で今日のイベント検索やスケジュールを決めるならち
 っくたっく
X-WR-CALNAME:ちっくたっく
X-WR-TIMEZONE:UTC
BEGIN:VEVENT
SUMMARY:(รองอุทัย) ประชุมคณะทำงา
 นขับเคลื่อนพระราชบัญญัติ
 ป้องกันและแก้ไขปัญหาการต
 ั้งครรภ์ในวัยรุ่น ครั้งที
 ่ 1/2569 ณ. ห้องประชุมอาคารส่งเ
 สริมสุขภาพ
DTSTART;VALUE=DATE-TIME:20260422T013000Z
DTEND;VALUE=DATE-TIME:20260422T080000Z
UID:183250096086
DESCRIPTION:(รองอุทัย) ประชุมคณะทำ
 งานขับเคลื่อนพระราชบัญญั
 ติป้องกันและแก้ไขปัญหากา
 รตั้งครรภ์ในวัยรุ่น ครั้ง
 ที่ 1/2569 ณ. ห้องประชุมอาคารส่
 งเสริมสุขภาพ
LOCATION:
END:VEVENT
END:VCALENDAR
