BEGIN:VCALENDAR
VERSION:2.0
PRODID:-//chikkutakku.com//RDFCal 1.0//EN
X-WR-CALDESC:GoogleカレンダーやiCalendar形式情報を共有シェ
 アしましょう。近所のイベントから全国のイベントま
 で今日のイベント検索やスケジュールを決めるならち
 っくたっく
X-WR-CALNAME:ちっくたっく
X-WR-TIMEZONE:UTC
BEGIN:VEVENT
SUMMARY:(รองพิเชฏฐ์) ประธานคณะกร
 รมการ ดำเนินงานด้านการบำบ
 ัดรักษาฟื้นฟูผู้ติดยาเสพ
 ติดและผู้ป่วยจิตเวชเขตสุ
 ขภาพที่ 10 และ ประธาน การประ
 ชุมขอขึ้นทะเบียนเปิดบริก
 ารมินิธัญญารักษ์เขตสุขภา
 พที่ 10 ผ่านระบบออนไลน์  ณ ห้
 อง eoc
DTSTART;VALUE=DATE-TIME:20260421T070000Z
DTEND;VALUE=DATE-TIME:20260421T090000Z
UID:183347304505
DESCRIPTION:(รองพิเชฏฐ์) ประธานคณะ
 กรรมการ ดำเนินงานด้านการบ
 ำบัดรักษาฟื้นฟูผู้ติดยาเ
 สพติดและผู้ป่วยจิตเวชเขต
 สุขภาพที่ 10 และ ประธาน การป
 ระชุมขอขึ้นทะเบียนเปิดบร
 ิการมินิธัญญารักษ์เขตสุข
 ภาพที่ 10 ผ่านระบบออนไลน์  ณ 
 ห้อง eoc
LOCATION:
END:VEVENT
END:VCALENDAR
