BEGIN:VCALENDAR
VERSION:2.0
PRODID:-//chikkutakku.com//RDFCal 1.0//EN
X-WR-CALDESC:GoogleカレンダーやiCalendar形式情報を共有シェ
 アしましょう。近所のイベントから全国のイベントま
 で今日のイベント検索やスケジュールを決めるならち
 っくたっく
X-WR-CALNAME:ちっくたっく
X-WR-TIMEZONE:UTC
BEGIN:VEVENT
SUMMARY:(นพ.สสจ/รอง นพ.สสจ.)ประชุม
 ติดตามผลการดำเนินงานตามน
 โยบายกระทรวงสาธารณสุข (Tuesday M
 orning Meeting : TMM) ประจำปีงบประมาณ พ.
 ศ. 2569 ผ่านระบบออนไลน์ ณ ห้อง
 ประชุม EOC สสจ.ศก.
DTSTART;VALUE=DATE-TIME:20260421T023000Z
DTEND;VALUE=DATE-TIME:20260421T033000Z
UID:183585781245
DESCRIPTION:(นพ.สสจ/รอง นพ.สสจ.)ประชุ
 มติดตามผลการดำเนินงานตาม
 นโยบายกระทรวงสาธารณสุข (Tuesda
 y Morning Meeting : TMM) ประจำปีงบประมาณ พ
 .ศ. 2569 ผ่านระบบออนไลน์ ณ ห้อง
 ประชุม EOC สสจ.ศก.
LOCATION:
END:VEVENT
END:VCALENDAR
