BEGIN:VCALENDAR
VERSION:2.0
PRODID:-//chikkutakku.com//RDFCal 1.0//EN
X-WR-CALDESC:GoogleカレンダーやiCalendar形式情報を共有シェ
 アしましょう。近所のイベントから全国のイベントま
 で今日のイベント検索やスケジュールを決めるならち
 っくたっく
X-WR-CALNAME:ちっくたっく
X-WR-TIMEZONE:UTC
BEGIN:VEVENT
SUMMARY:6年山梨U12L③
DTSTART;VALUE=DATE:20260523
DTEND;VALUE=DATE:20260524
UID:183644268522
DESCRIPTION:9:50~プログレス甲府昭和\n11:30~ラーゴ河口湖
LOCATION:未定
END:VEVENT
END:VCALENDAR
