BEGIN:VCALENDAR
VERSION:2.0
PRODID:-//chikkutakku.com//RDFCal 1.0//EN
X-WR-CALDESC:GoogleカレンダーやiCalendar形式情報を共有シェ
 アしましょう。近所のイベントから全国のイベントま
 で今日のイベント検索やスケジュールを決めるならち
 っくたっく
X-WR-CALNAME:ちっくたっく
X-WR-TIMEZONE:UTC
BEGIN:VEVENT
SUMMARY:この星の絵の具［下］新世界
DTSTART;VALUE=DATE:20260420
DTEND;VALUE=DATE:20260421
UID:184100325599
DESCRIPTION:2026-04-21この星の絵の具［下］新世界小林正人
 アートダイバー
LOCATION:
END:VEVENT
END:VCALENDAR
