BEGIN:VCALENDAR
VERSION:2.0
PRODID:-//chikkutakku.com//RDFCal 1.0//EN
X-WR-CALDESC:GoogleカレンダーやiCalendar形式情報を共有シェ
 アしましょう。近所のイベントから全国のイベントま
 で今日のイベント検索やスケジュールを決めるならち
 っくたっく
X-WR-CALNAME:ちっくたっく
X-WR-TIMEZONE:UTC
BEGIN:VEVENT
SUMMARY:Y 3 Zoo Trip  All Classes
DTSTART;VALUE=DATE-TIME:20260504T204500Z
DTEND;VALUE=DATE-TIME:20260505T024500Z
UID:184222822868
DESCRIPTION:Y 3 Zoo Trip  All Classes
LOCATION:Auckland Zoo\, Motions Rd\, Western Springs\, Auckland 1022\, New
  Zealand
END:VEVENT
END:VCALENDAR
