BEGIN:VCALENDAR
VERSION:2.0
PRODID:-//chikkutakku.com//RDFCal 1.0//EN
X-WR-CALDESC:GoogleカレンダーやiCalendar形式情報を共有シェ
 アしましょう。近所のイベントから全国のイベントま
 で今日のイベント検索やスケジュールを決めるならち
 っくたっく
X-WR-CALNAME:ちっくたっく
X-WR-TIMEZONE:UTC
BEGIN:VEVENT
SUMMARY:【初心者歓迎！】甘味処なぎは【和風喫茶接客イ
 ベント】
DTSTART;VALUE=DATE-TIME:20260421T130000Z
DTEND;VALUE=DATE-TIME:20260421T140000Z
UID:184340198659
DESCRIPTION:【イベント主催者】\n　たい焼き定食\n【イベ
 ント内容】\n　WILGINIABOX様製のアバター凪羽がキャスト
 として皆さまをお迎えいたします。vrchat初心者の方、
 店舗系イベントを体験したい方、和風が好きな方大歓
 迎です！\n【イベントジャンル】\n　店舗系イベント\, 
 初心者向けイベント\n【参加条件（モデル、人数制限な
 ど）】\n　ワールドが重くならない様にアバターサイズ
 50MB以下でお願い致します。\n【参加方法】\n　グループ
 『甘味処なぎは』に参加してグループインスタンスにJO
 IN！\n【備考】\n　途中入退場自由なのでお気軽にお越
 しください
LOCATION:
END:VEVENT
END:VCALENDAR
