BEGIN:VCALENDAR
VERSION:2.0
PRODID:-//chikkutakku.com//RDFCal 1.0//EN
X-WR-CALDESC:GoogleカレンダーやiCalendar形式情報を共有シェ
 アしましょう。近所のイベントから全国のイベントま
 で今日のイベント検索やスケジュールを決めるならち
 っくたっく
X-WR-CALNAME:ちっくたっく
X-WR-TIMEZONE:UTC
BEGIN:VEVENT
SUMMARY:Seishin Futaba 白帯練習white belt level beginners
DTSTART;VALUE=DATE-TIME:20260428T093000Z
DTEND;VALUE=DATE-TIME:20260428T102000Z
UID:184397919478
DESCRIPTION:21、22急遽利用できなくなった為、5週目お休み
 予定でしたが、お稽古としました\n\nDue to unexpected unfores
 een circumstances on the 21st and 22nd\, we had planned to take a break in
  the 5th week\, but instead\, we decided to hold a lesson.
LOCATION:江戸川区立清新ふたば小学校\, 日本、〒134-0087 
 東京都江戸川区清新町１丁目１−３８ 江戸川区立清新
 ふたば小学校
END:VEVENT
END:VCALENDAR
