BEGIN:VCALENDAR
VERSION:2.0
PRODID:-//chikkutakku.com//RDFCal 1.0//EN
X-WR-CALDESC:GoogleカレンダーやiCalendar形式情報を共有シェ
 アしましょう。近所のイベントから全国のイベントま
 で今日のイベント検索やスケジュールを決めるならち
 っくたっく
X-WR-CALNAME:ちっくたっく
X-WR-TIMEZONE:UTC
BEGIN:VEVENT
SUMMARY:第431回日本近代語研究会（2026年4月25日（土）15:00
 〜18:00、二松学舎大学 九段校舎4号館4階4041教室）
DTSTART;VALUE=DATE:20260424
DTEND;VALUE=DATE:20260425
UID:184804984341
DESCRIPTION:https://bungaku-report.com/blog/2026/04/431202642515001800-444
 041.html
LOCATION:
END:VEVENT
END:VCALENDAR
