BEGIN:VCALENDAR
VERSION:2.0
PRODID:-//chikkutakku.com//RDFCal 1.0//EN
X-WR-CALDESC:GoogleカレンダーやiCalendar形式情報を共有シェ
 アしましょう。近所のイベントから全国のイベントま
 で今日のイベント検索やスケジュールを決めるならち
 っくたっく
X-WR-CALNAME:ちっくたっく
X-WR-TIMEZONE:UTC
BEGIN:VEVENT
SUMMARY:この家で死にたいと母は言った 親を自宅で看取
 るということ
DTSTART;VALUE=DATE:20260423
DTEND;VALUE=DATE:20260424
UID:185009540212
DESCRIPTION:2026-04-24この家で死にたいと母は言った 親を自
 宅で看取るということ澤田 康彦集英社インターナショ
 ナル
LOCATION:
END:VEVENT
END:VCALENDAR
