BEGIN:VCALENDAR
VERSION:2.0
PRODID:-//chikkutakku.com//RDFCal 1.0//EN
X-WR-CALDESC:GoogleカレンダーやiCalendar形式情報を共有シェ
 アしましょう。近所のイベントから全国のイベントま
 で今日のイベント検索やスケジュールを決めるならち
 っくたっく
X-WR-CALNAME:ちっくたっく
X-WR-TIMEZONE:UTC
BEGIN:VEVENT
SUMMARY:Cafè Cranberry〜オネェ男子始めました（一部〜）
DTSTART;VALUE=DATE-TIME:20260424T140000Z
DTEND;VALUE=DATE-TIME:20260424T145900Z
UID:185737495089
DESCRIPTION:【イベント主催者】\n　みぅみぅ\n【イベント
 内容】\n　【期間限定！男女逆転？！イベント中！】\nC
 afé Cranberryは、癒しと笑顔が詰まった心温まる雑談イベ
 ントよ♡\nオネェキャストやイケメンキャストたちが、
 貴方達をお出迎え\n\nお客様との会話やキャスト同士の
 軽妙なやり取りを楽しみながら、日常の疲れをリフレ
 ッシュできる場所なの\nカフェらしい落ち着いた雰囲気
 の中で、気軽におしゃべりを楽しむのもよし、のんび
 りと時間を過ごすのもよし\nもちろん、初めての方でも
 大歓迎！キャストたちがしっかりサポートするから安
 心してね♪\n\nCranberryで、ちょっと特別な癒しのひとと
 きを過ごしてみない？\n私たちがみんなのおかえりを、
 心を込めて待ってるわ♡\n\nイベントに参加された方は
 下記のハッシュタグをつけて感想、お写真を投稿して
 ね♡\n#VRCイベント\n#Caféくらんべりー\n\nオーナー\n@nekon
 eko_112\n【イベントジャンル】\n　店舗系イベント\, ロー
 ルプレイ\, 定期イベント\n【参加条件（モデル、人数制
 限など）】\n　第1インスタンス定員15名\n第2インスタン
 ス6～15名(キャスト人数により変動あり)\n【参加方法】\
 n　＜来店方法 ＞\n1.  事前に「みぅみぅ」「_Rio__」「kur
 okikori」にフレンド申請をお願いいたします\n2.  第2イン
 スタンスがたつ時もございます。来店方法はX（@Cafe_Cran
 _berry）やグループ（https://vrc.group/BERRY.7790）にて確認し
 てご来店ください。\n＜参加条件＞\n*  日本語が理解で
 きる、話せる。\n*  VC、筆談、チャットのいずれかで会
 話ができる。\n*  途中で落ちた時はインスタンス主にリ
 クインを飛ばして下さい。\n*  キャストやスタッフは名
 札の名前で呼んで下さい。\n*  店内に入る前に必ず下記
 4つの設定をお願いいたします。\n①ステータスをオレ
 ンジ ②ネームプレートの「非表示」\n1.  ネームプレー
 トに追加情報の表示をOFFに\n2.  表示するチャットBOXの
 範囲を「全員」\n＜禁止事項＞\n*  許可のない動画撮影
 ・配信・画面共有・録音行為\n*  営業中の途中退店やお
 席の移動\n*  権限、NSFW アバター、容量大きい物、過度
 なパーティクル\n*  キャストや staff へのフレンド申請\n
 *  迷惑行為など運営が不適切と判断して、注意をいれ
 ても改善して頂けない時はご退店頂きます。\nお客様同
 士のトラフルは主催側で一切の責任を負いかねます。\n
 アフターは営業終了～25時まで。参加自由です。\n* ア
 フターのみのご来店も可能ですので是非起こし下さい
 ませ\n【備考】\n　Twitter公式アカウント\nCranberry\n@Cafe_Cr
 an_berry\n\n公式アカウントにてキャストの紹介などの情
 報を発信しておりますので是非フォローをお願いいた
 します
LOCATION:
END:VEVENT
END:VCALENDAR
