BEGIN:VCALENDAR
VERSION:2.0
PRODID:-//chikkutakku.com//RDFCal 1.0//EN
X-WR-CALDESC:GoogleカレンダーやiCalendar形式情報を共有シェ
 アしましょう。近所のイベントから全国のイベントま
 で今日のイベント検索やスケジュールを決めるならち
 っくたっく
X-WR-CALNAME:ちっくたっく
X-WR-TIMEZONE:UTC
BEGIN:VEVENT
SUMMARY:対バン：新宿：IDOL STORM
DTSTART;VALUE=DATE:20260516
DTEND;VALUE=DATE:20260517
UID:185912267183
DESCRIPTION:❤️‍🔥出演決定❤️‍🔥\n『IDOL STORM』\n\n
 ●5/17(日)\n●Music restaurant APEXIA(ATOM新宿)\n●12:30/13:00\n☆
 指名入場でネオトレカ1枚\n☆アパレル着用で1pt\n\n🎫チ
 ケット🎫\n(~5/8 23:59 先行抽選受付)\nhttps://t-dv.com/IDOLStorm
 0517\n\nアチアチな対バンライブになること間違いなし❗
 ️新宿を熱く燃やします🔥🔥🔥\nお待ちしております
 ✊🏻\n\n#ネオジャポ
LOCATION:
END:VEVENT
END:VCALENDAR
