BEGIN:VCALENDAR
VERSION:2.0
PRODID:-//chikkutakku.com//RDFCal 1.0//EN
X-WR-CALDESC:GoogleカレンダーやiCalendar形式情報を共有シェ
 アしましょう。近所のイベントから全国のイベントま
 で今日のイベント検索やスケジュールを決めるならち
 っくたっく
X-WR-CALNAME:ちっくたっく
X-WR-TIMEZONE:UTC
BEGIN:VEVENT
SUMMARY:【楽天ブックス限定先着特典】お気楽領主の楽し
 い領地防衛〜生産系魔術で名もなき村を最強の城塞都
 市に〜 Vol.2 【Blu-ray】(A4クリアファイル（転先生描き下
 ろしジャケットイラスト絵柄）)
DTSTART;VALUE=DATE:20260519
DTEND;VALUE=DATE:20260520
UID:186197565879
DESCRIPTION:2026-05-20【楽天ブックス限定先着特典】お気楽
 領主の楽しい領地防衛〜生産系魔術で名もなき村を最
 強の城塞都市に〜 Vol.2 【Blu-ray】(A4クリアファイル（転
 先生描き下ろしジャケットイラスト絵柄）)(アニメーシ
 ョン)(株)フライングドッグ
LOCATION:
END:VEVENT
END:VCALENDAR
