BEGIN:VCALENDAR
VERSION:2.0
PRODID:-//chikkutakku.com//RDFCal 1.0//EN
X-WR-CALDESC:GoogleカレンダーやiCalendar形式情報を共有シェ
 アしましょう。近所のイベントから全国のイベントま
 で今日のイベント検索やスケジュールを決めるならち
 っくたっく
X-WR-CALNAME:ちっくたっく
X-WR-TIMEZONE:UTC
BEGIN:VEVENT
SUMMARY:Under 18 Face to Face Drop-In
DTSTART;VALUE=DATE-TIME:20260507T080000Z
DTEND;VALUE=DATE-TIME:20260507T113000Z
UID:186713191570
DESCRIPTION:A drop in space for LGBTIQA+ young people aged 12 - 17 years. 
 Drop in anytime between 4-7:30pm!
LOCATION:60a Frame Ct\, Leederville WA 6007\, Australia
END:VEVENT
END:VCALENDAR
