BEGIN:VCALENDAR
VERSION:2.0
PRODID:-//chikkutakku.com//RDFCal 1.0//EN
X-WR-CALDESC:GoogleカレンダーやiCalendar形式情報を共有シェ
 アしましょう。近所のイベントから全国のイベントま
 で今日のイベント検索やスケジュールを決めるならち
 っくたっく
X-WR-CALNAME:ちっくたっく
X-WR-TIMEZONE:UTC
BEGIN:VEVENT
SUMMARY:贈呪は禁止されています （1）
DTSTART;VALUE=DATE:20260521
DTEND;VALUE=DATE:20260522
UID:187277652186
DESCRIPTION:2026-05-22贈呪は禁止されています （1）田中俊
 行/海谷きき幻冬舎コミックス
LOCATION:
END:VEVENT
END:VCALENDAR
