BEGIN:VCALENDAR
VERSION:2.0
PRODID:-//chikkutakku.com//RDFCal 1.0//EN
X-WR-CALDESC:GoogleカレンダーやiCalendar形式情報を共有シェ
 アしましょう。近所のイベントから全国のイベントま
 で今日のイベント検索やスケジュールを決めるならち
 っくたっく
X-WR-CALNAME:ちっくたっく
X-WR-TIMEZONE:UTC
BEGIN:VEVENT
SUMMARY:日本史の宝箱
DTSTART;VALUE=DATE:20260521
DTEND;VALUE=DATE:20260522
UID:187460817911
DESCRIPTION:2026-05-22日本史の宝箱東京大学史料編纂所中央
 公論新社
LOCATION:
END:VEVENT
END:VCALENDAR
