BEGIN:VCALENDAR
VERSION:2.0
PRODID:-//chikkutakku.com//RDFCal 1.0//EN
X-WR-CALDESC:GoogleカレンダーやiCalendar形式情報を共有シェ
 アしましょう。近所のイベントから全国のイベントま
 で今日のイベント検索やスケジュールを決めるならち
 っくたっく
X-WR-CALNAME:ちっくたっく
X-WR-TIMEZONE:UTC
BEGIN:VEVENT
SUMMARY:【Android 対応】【初心者大歓迎】VRC野球練習会！
DTSTART;VALUE=DATE-TIME:20260425T120000Z
DTEND;VALUE=DATE-TIME:20260425T140000Z
UID:187492793580
DESCRIPTION:【イベント主催者】\n　明智ナオユキ\n【イベ
 ント内容】\n　VRC運動部主催のWBD野球ワールドの体験及
 び練習会です！初心者大歓迎です！ 遊び方や、基本的
 なルール、ワールドの仕様などもお教えします！ しっ
 かりサポートしますのでお気軽にご参加ください！\n【
 イベントジャンル】\n　定期イベント\n【参加条件（モ
 デル、人数制限など）】\n　\n【参加方法】\n　版権ア
 バターの使用はお控えください。 WBD用サンプルアバタ
 ーも用意してますのでご心配なく！\n【備考】\n　
LOCATION:
END:VEVENT
END:VCALENDAR
