BEGIN:VCALENDAR
VERSION:2.0
PRODID:-//chikkutakku.com//RDFCal 1.0//EN
X-WR-CALDESC:GoogleカレンダーやiCalendar形式情報を共有シェ
 アしましょう。近所のイベントから全国のイベントま
 で今日のイベント検索やスケジュールを決めるならち
 っくたっく
X-WR-CALNAME:ちっくたっく
X-WR-TIMEZONE:UTC
BEGIN:VEVENT
SUMMARY:メイドカフェBar「出張！とわえもあ」春限定制服
 day
DTSTART;VALUE=DATE-TIME:20260424T130000Z
DTEND;VALUE=DATE-TIME:20260424T140000Z
UID:189359658883
DESCRIPTION:【イベント主催者】\n　あんこ\n【イベント内
 容】\n　メイドたちが元気にご主人様⁄お嬢様をお出迎
 え！\n普段は毎週月曜日21:00からやっているメイドカフ
 ェですが、\n今日は1日限りの春限定制服営業特別dayで
 す!!\n【イベントジャンル】\n　ロールプレイ\, 初心者
 向けイベント\, 定期イベント\n【参加条件（モデル、人
 数制限など）】\n　参加条件\n- 日本語を理解・使用で
 き、スムーズな意思疎通が可能であること\n- 無言勢は
 ペンやチャットでの意思疎通をお願いいたします\n\nア
 バター・ギミックについて\n- アバターのダウンロード
 容量は40MB以下にすること\n- 40MB以下でも、極端に重い
 アバターは変更をお願いする場合があります\n- 以下の
 アバターは禁止します\n- 版権／NSFW／ネタアバター\n- 
 極端に大きい／小さいアバター\n- 過度なエフェクト・
 パーティクル\n- 武器ギミックの抜刀・発動\n- その他運
 営判断でイベント運営に好ましくないと判断されるも
 の\n\n禁止事項\n- お客様からキャストへの意図的な接触
 行為\n- 許可なくVRCカメラ・その他ギミック等を使用す
 る行為\n- イベント中・イベント終了後のキャストへの
 フレンド申請・その他アプローチ\n- イベント時間終了
 後のTwitterのフォローのみ可能とさせていただきます\n
 （フォローバックを確約するものではありません）\n- 
 キャストや他のお客様への嫌がらせ・ハラスメント・
 ストーカー行為\n- 録画・録音・配信・撮影などの盗撮
 行為\n- 公序良俗・VRC規約に反する行為\n- その他、運営
 が不適切だと判断した行為\n【参加方法】\n　【リクイ
 ン制】\n事前にインスタンスリーダー（IL）にフレンド
 申請の上、\nインスタンスを1つだけ選び、\n21˸55に「招
 待をリクエスト」を「1回のみ」を送信してください。\
 n21˸55 リクイン受付開始\n21˸58 リクイン締切\n22˸00 リク
 イン受け入れ開始\n\n詳しくはインスタンス表のTwitterを
 ご確認ください\n【備考】\n　https://x.com/toietmoi_vrc
LOCATION:
END:VEVENT
END:VCALENDAR
