BEGIN:VCALENDAR
VERSION:2.0
PRODID:-//chikkutakku.com//RDFCal 1.0//EN
X-WR-CALDESC:GoogleカレンダーやiCalendar形式情報を共有シェ
 アしましょう。近所のイベントから全国のイベントま
 で今日のイベント検索やスケジュールを決めるならち
 っくたっく
X-WR-CALNAME:ちっくたっく
X-WR-TIMEZONE:UTC
BEGIN:VEVENT
SUMMARY:異世界転移して教師になったが、魔女と恐れられ
 ている件 〜アオイ先生の学園奮闘日誌〜（6）
DTSTART;VALUE=DATE:20260512
DTEND;VALUE=DATE:20260513
UID:189401213004
DESCRIPTION:2026-05-13異世界転移して教師になったが、魔女
 と恐れられている件 〜アオイ先生の学園奮闘日誌〜（6
 ）咲良/井上みつる/鈴ノ株式会社アース・スター エン
 ターテイメント
LOCATION:
END:VEVENT
END:VCALENDAR
